Workbook

Sheet Instrucciones
A1: Calendario de contenidos
A3: Completa las celdas con tus datos. Ejemplos ilustrativos; no son resultados de Presse.
A6: Tema | B6: Información
A7: Uso | B7: Archivo editable, gratuito y sin registro. Duplica hojas o filas según tu empresa.
A8: Guía | B8: https://presse.cl/agencia-marketing-chile/calendario-de-contenidos/
A9: Ejemplos | B9: Los datos de ejemplo son ficticios. Usa evidencias y tasas de tu empresa.
A10: Privacidad | B10: No se envían datos a Presse al editar este archivo. No contiene macros.

Sheet Enero
A1: Calendario de contenidos · Enero
A3: Completa las fechas con el año de tu planificación. Ordena por pilar, etapa y estado. Los nombres de mes no fijan un año.
A6: Fecha | B6: Pilar | C6: Etapa (TOFU/MOFU/BOFU) | D6: Formato | E6: Canal | F6: Título o tema | G6: Keyword | H6: CTA | I6: Responsable | J6: Estado

Sheet Febrero
A1: Calendario de contenidos · Febrero
A3: Completa las fechas con el año de tu planificación. Ordena por pilar, etapa y estado. Los nombres de mes no fijan un año.
A6: Fecha | B6: Pilar | C6: Etapa (TOFU/MOFU/BOFU) | D6: Formato | E6: Canal | F6: Título o tema | G6: Keyword | H6: CTA | I6: Responsable | J6: Estado

Sheet Marzo
A1: Calendario de contenidos · Marzo
A3: Completa las fechas con el año de tu planificación. Ordena por pilar, etapa y estado. Los nombres de mes no fijan un año.
A6: Fecha | B6: Pilar | C6: Etapa (TOFU/MOFU/BOFU) | D6: Formato | E6: Canal | F6: Título o tema | G6: Keyword | H6: CTA | I6: Responsable | J6: Estado

Sheet Abril
A1: Calendario de contenidos · Abril
A3: Completa las fechas con el año de tu planificación. Ordena por pilar, etapa y estado. Los nombres de mes no fijan un año.
A6: Fecha | B6: Pilar | C6: Etapa (TOFU/MOFU/BOFU) | D6: Formato | E6: Canal | F6: Título o tema | G6: Keyword | H6: CTA | I6: Responsable | J6: Estado

Sheet Mayo
A1: Calendario de contenidos · Mayo
A3: Completa las fechas con el año de tu planificación. Ordena por pilar, etapa y estado. Los nombres de mes no fijan un año.
A6: Fecha | B6: Pilar | C6: Etapa (TOFU/MOFU/BOFU) | D6: Formato | E6: Canal | F6: Título o tema | G6: Keyword | H6: CTA | I6: Responsable | J6: Estado

Sheet Junio
A1: Calendario de contenidos · Junio
A3: Completa las fechas con el año de tu planificación. Ordena por pilar, etapa y estado. Los nombres de mes no fijan un año.
A6: Fecha | B6: Pilar | C6: Etapa (TOFU/MOFU/BOFU) | D6: Formato | E6: Canal | F6: Título o tema | G6: Keyword | H6: CTA | I6: Responsable | J6: Estado

Sheet Julio
A1: Calendario de contenidos · Julio
A3: Completa las fechas con el año de tu planificación. Ordena por pilar, etapa y estado. Los nombres de mes no fijan un año.
A6: Fecha | B6: Pilar | C6: Etapa (TOFU/MOFU/BOFU) | D6: Formato | E6: Canal | F6: Título o tema | G6: Keyword | H6: CTA | I6: Responsable | J6: Estado

Sheet Agosto
A1: Calendario de contenidos · Agosto
A3: Completa las fechas con el año de tu planificación. Ordena por pilar, etapa y estado. Los nombres de mes no fijan un año.
A6: Fecha | B6: Pilar | C6: Etapa (TOFU/MOFU/BOFU) | D6: Formato | E6: Canal | F6: Título o tema | G6: Keyword | H6: CTA | I6: Responsable | J6: Estado

Sheet Septiembre
A1: Calendario de contenidos · Septiembre
A3: Completa las fechas con el año de tu planificación. Ordena por pilar, etapa y estado. Los nombres de mes no fijan un año.
A6: Fecha | B6: Pilar | C6: Etapa (TOFU/MOFU/BOFU) | D6: Formato | E6: Canal | F6: Título o tema | G6: Keyword | H6: CTA | I6: Responsable | J6: Estado

Sheet Octubre
A1: Calendario de contenidos · Octubre
A3: Completa las fechas con el año de tu planificación. Ordena por pilar, etapa y estado. Los nombres de mes no fijan un año.
A6: Fecha | B6: Pilar | C6: Etapa (TOFU/MOFU/BOFU) | D6: Formato | E6: Canal | F6: Título o tema | G6: Keyword | H6: CTA | I6: Responsable | J6: Estado

Sheet Noviembre
A1: Calendario de contenidos · Noviembre
A3: Completa las fechas con el año de tu planificación. Ordena por pilar, etapa y estado. Los nombres de mes no fijan un año.
A6: Fecha | B6: Pilar | C6: Etapa (TOFU/MOFU/BOFU) | D6: Formato | E6: Canal | F6: Título o tema | G6: Keyword | H6: CTA | I6: Responsable | J6: Estado

Sheet Diciembre
A1: Calendario de contenidos · Diciembre
A3: Completa las fechas con el año de tu planificación. Ordena por pilar, etapa y estado. Los nombres de mes no fijan un año.
A6: Fecha | B6: Pilar | C6: Etapa (TOFU/MOFU/BOFU) | D6: Formato | E6: Canal | F6: Título o tema | G6: Keyword | H6: CTA | I6: Responsable | J6: Estado

Sheet Pilares
A1: Pilares y problemas del comprador
A3: Completa las celdas con tus datos. Ejemplos ilustrativos; no son resultados de Presse.
A6: Pilar | B6: Problema del buyer persona | C6: Objetivo comercial

Sheet Tablero
A1: Estado de publicaciones por mes
A3: Completa las celdas con tus datos. Ejemplos ilustrativos; no son resultados de Presse.
A6: Mes | B6: Idea | C6: Borrador | D6: Revisión | E6: Publicado
A7: Enero | B7: =COUNTIF('Enero'!J7:J66,"Idea") -> 0 | C7: =COUNTIF('Enero'!J7:J66,"Borrador") -> 0 | D7: =COUNTIF('Enero'!J7:J66,"Revisión") -> 0 | E7: =COUNTIF('Enero'!J7:J66,"Publicado") -> 0
A8: Febrero | B8: =COUNTIF('Febrero'!J7:J66,"Idea") -> 0 | C8: =COUNTIF('Febrero'!J7:J66,"Borrador") -> 0 | D8: =COUNTIF('Febrero'!J7:J66,"Revisión") -> 0 | E8: =COUNTIF('Febrero'!J7:J66,"Publicado") -> 0
A9: Marzo | B9: =COUNTIF('Marzo'!J7:J66,"Idea") -> 0 | C9: =COUNTIF('Marzo'!J7:J66,"Borrador") -> 0 | D9: =COUNTIF('Marzo'!J7:J66,"Revisión") -> 0 | E9: =COUNTIF('Marzo'!J7:J66,"Publicado") -> 0
A10: Abril | B10: =COUNTIF('Abril'!J7:J66,"Idea") -> 0 | C10: =COUNTIF('Abril'!J7:J66,"Borrador") -> 0 | D10: =COUNTIF('Abril'!J7:J66,"Revisión") -> 0 | E10: =COUNTIF('Abril'!J7:J66,"Publicado") -> 0
A11: Mayo | B11: =COUNTIF('Mayo'!J7:J66,"Idea") -> 0 | C11: =COUNTIF('Mayo'!J7:J66,"Borrador") -> 0 | D11: =COUNTIF('Mayo'!J7:J66,"Revisión") -> 0 | E11: =COUNTIF('Mayo'!J7:J66,"Publicado") -> 0
A12: Junio | B12: =COUNTIF('Junio'!J7:J66,"Idea") -> 0 | C12: =COUNTIF('Junio'!J7:J66,"Borrador") -> 0 | D12: =COUNTIF('Junio'!J7:J66,"Revisión") -> 0 | E12: =COUNTIF('Junio'!J7:J66,"Publicado") -> 0
A13: Julio | B13: =COUNTIF('Julio'!J7:J66,"Idea") -> 0 | C13: =COUNTIF('Julio'!J7:J66,"Borrador") -> 0 | D13: =COUNTIF('Julio'!J7:J66,"Revisión") -> 0 | E13: =COUNTIF('Julio'!J7:J66,"Publicado") -> 0
A14: Agosto | B14: =COUNTIF('Agosto'!J7:J66,"Idea") -> 0 | C14: =COUNTIF('Agosto'!J7:J66,"Borrador") -> 0 | D14: =COUNTIF('Agosto'!J7:J66,"Revisión") -> 0 | E14: =COUNTIF('Agosto'!J7:J66,"Publicado") -> 0
A15: Septiembre | B15: =COUNTIF('Septiembre'!J7:J66,"Idea") -> 0 | C15: =COUNTIF('Septiembre'!J7:J66,"Borrador") -> 0 | D15: =COUNTIF('Septiembre'!J7:J66,"Revisión") -> 0 | E15: =COUNTIF('Septiembre'!J7:J66,"Publicado") -> 0
A16: Octubre | B16: =COUNTIF('Octubre'!J7:J66,"Idea") -> 0 | C16: =COUNTIF('Octubre'!J7:J66,"Borrador") -> 0 | D16: =COUNTIF('Octubre'!J7:J66,"Revisión") -> 0 | E16: =COUNTIF('Octubre'!J7:J66,"Publicado") -> 0
A17: Noviembre | B17: =COUNTIF('Noviembre'!J7:J66,"Idea") -> 0 | C17: =COUNTIF('Noviembre'!J7:J66,"Borrador") -> 0 | D17: =COUNTIF('Noviembre'!J7:J66,"Revisión") -> 0 | E17: =COUNTIF('Noviembre'!J7:J66,"Publicado") -> 0
A18: Diciembre | B18: =COUNTIF('Diciembre'!J7:J66,"Idea") -> 0 | C18: =COUNTIF('Diciembre'!J7:J66,"Borrador") -> 0 | D18: =COUNTIF('Diciembre'!J7:J66,"Revisión") -> 0 | E18: =COUNTIF('Diciembre'!J7:J66,"Publicado") -> 0
